BEGIN:VCALENDAR
VERSION:2.0
PRODID:-//Lagotto Romagnolo Wasserhunde Deutschland e.V. - ECPv6.15.20//NONSGML v1.0//EN
CALSCALE:GREGORIAN
METHOD:PUBLISH
X-ORIGINAL-URL:https://www.lagotto-wasserhunde.de
X-WR-CALDESC:Veranstaltungen für Lagotto Romagnolo Wasserhunde Deutschland e.V.
REFRESH-INTERVAL;VALUE=DURATION:PT1H
X-Robots-Tag:noindex
X-PUBLISHED-TTL:PT1H
BEGIN:VTIMEZONE
TZID:Europe/Berlin
BEGIN:DAYLIGHT
TZOFFSETFROM:+0100
TZOFFSETTO:+0200
TZNAME:CEST
DTSTART:20160327T010000
END:DAYLIGHT
BEGIN:STANDARD
TZOFFSETFROM:+0200
TZOFFSETTO:+0100
TZNAME:CET
DTSTART:20161030T010000
END:STANDARD
BEGIN:DAYLIGHT
TZOFFSETFROM:+0100
TZOFFSETTO:+0200
TZNAME:CEST
DTSTART:20170326T010000
END:DAYLIGHT
BEGIN:STANDARD
TZOFFSETFROM:+0200
TZOFFSETTO:+0100
TZNAME:CET
DTSTART:20171029T010000
END:STANDARD
BEGIN:DAYLIGHT
TZOFFSETFROM:+0100
TZOFFSETTO:+0200
TZNAME:CEST
DTSTART:20180325T010000
END:DAYLIGHT
BEGIN:STANDARD
TZOFFSETFROM:+0200
TZOFFSETTO:+0100
TZNAME:CET
DTSTART:20181028T010000
END:STANDARD
END:VTIMEZONE
BEGIN:VEVENT
DTSTART;TZID=Europe/Berlin:20170707T090000
DTEND;TZID=Europe/Berlin:20170709T170000
DTSTAMP:20260421T131012
CREATED:20170422T124223Z
LAST-MODIFIED:20170422T184647Z
UID:4317-1499418000-1499619600@www.lagotto-wasserhunde.de
SUMMARY:spannendes Hunde-Wochenende mit Begleithund-Turnier
DESCRIPTION:Der  LRWD e.V. lädt zusammen mit dem 1. LRCD e.V. und dem SV e.V. Wanfried zu einem \nspannendes Hunde-Wochenende mit Begleithund-Turnier\nSpiel-\, Spaß- und Sportwochenende vom 7.7.2017 – 9.7.2017 mit Begleithundeturnier am 8.7.2017 \n  \nDamit nicht immer nur „Spazierengehen“ und „Klönen“ mit unseren Lagotti angesagt ist\, haben Ute Ruoff und Margit Borger überlegt\, noch ein „Sportwochenende“ zu veranstalten. \nViele unserer Lagottifreunde haben ihre Vierbeiner ausgebildet und so möchten wir die Möglichkeit anbieten\, eine „offizielle“ Prüfung abzulegen. \nFür alle\, die in keinem Hundesportverein Mitglied sind\, gibt es die „Begleithundeprüfung nach Augsburger Modell“. \nAlle anderen  können in den Sparten BH/VT\, Sachkunde\, BgH 1 – 3\, UPr 1 – 3\, RH 1 starten. \n  \nMeldeschluss: 2.7.2017 \nAblauf: \nAnreise ab Freitagmittag 7.7.2017 \nProbetraining + gemütliches Beisammensein ab 15.00 Uhr \nSamstag 8.7.2017 – Prüfung ab 9.00 Uhr – Startgebühr € 25\,– \nSonntag 9.7.2017  Spazierengehen und / oder Einführung in „Mantrailing“ \n  \nMELDESEITE
URL:https://www.lagotto-wasserhunde.de/termin/spannendes-hunde-wochenende-mit-begleithund-turnier/
CATEGORIES:Allgemeines,Seminar,Wanderungen
ORGANIZER;CN="LRWD e.V.":MAILTO:info@lagotto-wasserhunde.de
END:VEVENT
END:VCALENDAR