BEGIN:VCALENDAR
VERSION:2.0
PRODID:-//Lagotto Romagnolo Wasserhunde Deutschland e.V. - ECPv6.15.20//NONSGML v1.0//EN
CALSCALE:GREGORIAN
METHOD:PUBLISH
X-WR-CALNAME:Lagotto Romagnolo Wasserhunde Deutschland e.V.
X-ORIGINAL-URL:https://www.lagotto-wasserhunde.de
X-WR-CALDESC:Veranstaltungen für Lagotto Romagnolo Wasserhunde Deutschland e.V.
REFRESH-INTERVAL;VALUE=DURATION:PT1H
X-Robots-Tag:noindex
X-PUBLISHED-TTL:PT1H
BEGIN:VTIMEZONE
TZID:Europe/Berlin
BEGIN:DAYLIGHT
TZOFFSETFROM:+0100
TZOFFSETTO:+0200
TZNAME:CEST
DTSTART:20160327T010000
END:DAYLIGHT
BEGIN:STANDARD
TZOFFSETFROM:+0200
TZOFFSETTO:+0100
TZNAME:CET
DTSTART:20161030T010000
END:STANDARD
BEGIN:DAYLIGHT
TZOFFSETFROM:+0100
TZOFFSETTO:+0200
TZNAME:CEST
DTSTART:20170326T010000
END:DAYLIGHT
BEGIN:STANDARD
TZOFFSETFROM:+0200
TZOFFSETTO:+0100
TZNAME:CET
DTSTART:20171029T010000
END:STANDARD
BEGIN:DAYLIGHT
TZOFFSETFROM:+0100
TZOFFSETTO:+0200
TZNAME:CEST
DTSTART:20180325T010000
END:DAYLIGHT
BEGIN:STANDARD
TZOFFSETFROM:+0200
TZOFFSETTO:+0100
TZNAME:CET
DTSTART:20181028T010000
END:STANDARD
END:VTIMEZONE
BEGIN:VEVENT
DTSTART;VALUE=DATE:20171109
DTEND;VALUE=DATE:20171113
DTSTAMP:20260423T173447
CREATED:20160919T153321Z
LAST-MODIFIED:20161213T230411Z
UID:3804-1510185600-1510531199@www.lagotto-wasserhunde.de
SUMMARY:World Dog Show vom 9.-12. November 2017 in Leipzig 
DESCRIPTION:Als Veranstaltungsort steht dem VDH  eines der größten und modernsten Messegelände Europas\, die Leipziger Messe\, zur Verfügung. Leipzig liegt im Zentrum Europas und verfügt über eine hervorragende Verkehrsanbindung mit einem sehr gut ausgebauten Autobahnnetz. Der Flughafen Leipzig-Halle ist nur wenige Kilometer vom Messegelände entfernt\, über eine eigene S-Bahn-Station ist die Messe direkt an den Leipziger Bahnhof angebunden. \nÜber 80.000 Quadratmeter Hallen- und 70.000 Quadratmeter Freifläche bieten ausreichend Platz für die Durchführung der World Dog Show. Alle Hallen sind klimatisiert. \nLeipzig ist als Veranstaltungsort für Hundeausstellungen seit Jahrzehnten etabliert und genießt ein hohes Ansehen unter den Ausstellern. \nDie Stadt Leipzig ist als Kulturstadt auch ein touristisches Highlight. Kaum eine andere Stadt kann auf eine so große Musiktradition verweisen wie Leipzig. Namen wie Johann Sebastian Bach\, Felix Mendelssohn Bartholdy oder Richard Wagner sind untrennbar mit Leipzig verbunden. Zum Einkaufen und Bummeln laden in der historischen Innenstadt einzigartige Passagensysteme und Messehöfe\, moderne Kaufhäuser und die Hauptbahnhof-Promenaden im größten europäischen Kopfbahnhof ein.
URL:https://www.lagotto-wasserhunde.de/termin/world-dog-show-vom-9-12-november-2017-in-leipzig/
CATEGORIES:Ausstellung
END:VEVENT
END:VCALENDAR