BEGIN:VCALENDAR
VERSION:2.0
PRODID:-//Lagotto Romagnolo Wasserhunde Deutschland e.V. - ECPv6.15.20//NONSGML v1.0//EN
CALSCALE:GREGORIAN
METHOD:PUBLISH
X-WR-CALNAME:Lagotto Romagnolo Wasserhunde Deutschland e.V.
X-ORIGINAL-URL:https://www.lagotto-wasserhunde.de
X-WR-CALDESC:Veranstaltungen für Lagotto Romagnolo Wasserhunde Deutschland e.V.
REFRESH-INTERVAL;VALUE=DURATION:PT1H
X-Robots-Tag:noindex
X-PUBLISHED-TTL:PT1H
BEGIN:VTIMEZONE
TZID:Europe/Berlin
BEGIN:DAYLIGHT
TZOFFSETFROM:+0100
TZOFFSETTO:+0200
TZNAME:CEST
DTSTART:20160327T010000
END:DAYLIGHT
BEGIN:STANDARD
TZOFFSETFROM:+0200
TZOFFSETTO:+0100
TZNAME:CET
DTSTART:20161030T010000
END:STANDARD
BEGIN:DAYLIGHT
TZOFFSETFROM:+0100
TZOFFSETTO:+0200
TZNAME:CEST
DTSTART:20170326T010000
END:DAYLIGHT
BEGIN:STANDARD
TZOFFSETFROM:+0200
TZOFFSETTO:+0100
TZNAME:CET
DTSTART:20171029T010000
END:STANDARD
BEGIN:DAYLIGHT
TZOFFSETFROM:+0100
TZOFFSETTO:+0200
TZNAME:CEST
DTSTART:20180325T010000
END:DAYLIGHT
BEGIN:STANDARD
TZOFFSETFROM:+0200
TZOFFSETTO:+0100
TZNAME:CET
DTSTART:20181028T010000
END:STANDARD
END:VTIMEZONE
BEGIN:VEVENT
DTSTART;TZID=Europe/Berlin:20171118T140000
DTEND;TZID=Europe/Berlin:20171118T180000
DTSTAMP:20260423T173308
CREATED:20170802T124126Z
LAST-MODIFIED:20171102T191720Z
UID:4494-1511013600-1511028000@www.lagotto-wasserhunde.de
SUMMARY:Vortrag von Fr. Dr. Anna Laukner zur  Fellfarbgenetik beim Lagotto Romagnolo.
DESCRIPTION:Wir konnten Frau Dr. Anna Laukner\, Mitarbeiterin bei Laboklin\, für einen Vortrag zur Fellfarbgenetik beim Lagotto Romagnolo gewinnen. Zu diesem Vortag möchten wir alle Züchter und Interessierte einladen.  \nFrau Dr. Anna Laukner Fachautorin des Buches: \nDie Genetik der Fellfarben beim Hund\nDieses Fachbuch umfasst alle Aspekte der vielfältigen Fellfarben beim Hund: Biologische Entstehung\, deren Bedeutung für den Hund (und seine Menschen)\, Nomenklatur\, detaillierte Erbgänge\, gesundheitliche Aspekte\, praktische Tipps zu Gentests und vieles mehr.\nEin besonderer Schwerpunkt liegt dabei auf der Frage der Gesundheit\, denn immer dann\, wenn Fellfarben in den Fokus der züchterischen Selektion geraten\, besteht die Gefahr\, dass Merkmale wie Gesundheit und Wesen an zweite oder dritte Stelle rücken – insbesondere dann\, wenn die gentische Grundlage einer besonderen Farbe auch Auswirkungen auf wichtige Körperfunktionen hat.\nMit über 1.000 einmaligen Farbfotos zu allen erdenklichen Farb- und Fellvarianten und einem ausführlichen Glossar der Fachbegriffe. Endlich das erste umfassende Buch über die Fellfarben beim Hund und die Mechanismen ihrer Vererbung! \nNach dem Vortrag können wir die angeregten Diskussionen und Gespräche beim gemeinsamen Essen und Spaziergang mit unseren Hunden fortsetzen. \n  \n\n  \nDie Teilnahmegebühr ist vor Ort zu entrichten 
URL:https://www.lagotto-wasserhunde.de/termin/vortrag-von-fr-dr-anna-laukner-zur-fellfarbgenetik-beim-lagotto-romagnolo/
END:VEVENT
END:VCALENDAR