BEGIN:VCALENDAR
VERSION:2.0
PRODID:-//Lagotto Romagnolo Wasserhunde Deutschland e.V. - ECPv6.15.20//NONSGML v1.0//EN
CALSCALE:GREGORIAN
METHOD:PUBLISH
X-ORIGINAL-URL:https://www.lagotto-wasserhunde.de
X-WR-CALDESC:Veranstaltungen für Lagotto Romagnolo Wasserhunde Deutschland e.V.
REFRESH-INTERVAL;VALUE=DURATION:PT1H
X-Robots-Tag:noindex
X-PUBLISHED-TTL:PT1H
BEGIN:VTIMEZONE
TZID:Europe/Berlin
BEGIN:DAYLIGHT
TZOFFSETFROM:+0100
TZOFFSETTO:+0200
TZNAME:CEST
DTSTART:20200329T010000
END:DAYLIGHT
BEGIN:STANDARD
TZOFFSETFROM:+0200
TZOFFSETTO:+0100
TZNAME:CET
DTSTART:20201025T010000
END:STANDARD
BEGIN:DAYLIGHT
TZOFFSETFROM:+0100
TZOFFSETTO:+0200
TZNAME:CEST
DTSTART:20210328T010000
END:DAYLIGHT
BEGIN:STANDARD
TZOFFSETFROM:+0200
TZOFFSETTO:+0100
TZNAME:CET
DTSTART:20211031T010000
END:STANDARD
BEGIN:DAYLIGHT
TZOFFSETFROM:+0100
TZOFFSETTO:+0200
TZNAME:CEST
DTSTART:20220327T010000
END:DAYLIGHT
BEGIN:STANDARD
TZOFFSETFROM:+0200
TZOFFSETTO:+0100
TZNAME:CET
DTSTART:20221030T010000
END:STANDARD
END:VTIMEZONE
BEGIN:VEVENT
DTSTART;VALUE=DATE:20210410
DTEND;VALUE=DATE:20210412
DTSTAMP:20260424T232033
CREATED:20201116T194645Z
LAST-MODIFIED:20210402T111242Z
UID:8262-1618012800-1618185599@www.lagotto-wasserhunde.de
SUMMARY:Spezial-Rassehunde-Ausstellung und ZZL Niederkrüchten - abgesagt
DESCRIPTION:Aufgrund der allgemein steigenden Infektionszahlen und der derzeit geltenden Corona Schutzverordnung ist die Durchführung leider nicht möglich. \n  \nIm April 2021 findet unsere nächste Spezial-Rassehunde-Ausstellung und ZZL nun leider nicht statt. Auch diese wird wieder über 2 Tage gehen.  So können diejenigen die die ZZL Veranstaltung besuchen möchten 2 Formwertbeurteilungen hierfür erwerben. \nAls Richter haben wir für Samstag Margret Möller-Sieber (DE) und für Sonntag Herbert Klemann (DE) zu uns eingeladen. \nEs werden VDH Anwartschaften & LRWD e.V. Anwartschaften CAC vergeben. \nOrt\nAn der Beek 255\, Halle 9\n41372 Niederkrüchten \nTermin\n10. und 11. April 2021 \nNeuer Meldeschluss\n24. März 2021 \n  \nDetails wie Anfangszeiten geben ihr kurz vorher bekannt. Selbstverständlich werden auch die Rechnungen erst kurz vorher fällig\, so dass keiner ein Risiko bei der Meldung \n  \nKeine Meldungen mehr möglich!
URL:https://www.lagotto-wasserhunde.de/termin/save-the-date-spezial-rassehunde-ausstellung-und-zzl/
CATEGORIES:Allgemeines,Ausstellung,ZZL
ORGANIZER;CN="LRWD e.V.":MAILTO:info@lagotto-wasserhunde.de
END:VEVENT
END:VCALENDAR