BEGIN:VCALENDAR
VERSION:2.0
PRODID:-//Lagotto Romagnolo Wasserhunde Deutschland e.V. - ECPv6.15.20//NONSGML v1.0//EN
CALSCALE:GREGORIAN
METHOD:PUBLISH
X-WR-CALNAME:Lagotto Romagnolo Wasserhunde Deutschland e.V.
X-ORIGINAL-URL:https://www.lagotto-wasserhunde.de
X-WR-CALDESC:Veranstaltungen für Lagotto Romagnolo Wasserhunde Deutschland e.V.
REFRESH-INTERVAL;VALUE=DURATION:PT1H
X-Robots-Tag:noindex
X-PUBLISHED-TTL:PT1H
BEGIN:VTIMEZONE
TZID:Europe/Berlin
BEGIN:DAYLIGHT
TZOFFSETFROM:+0100
TZOFFSETTO:+0200
TZNAME:CEST
DTSTART:20160327T010000
END:DAYLIGHT
BEGIN:STANDARD
TZOFFSETFROM:+0200
TZOFFSETTO:+0100
TZNAME:CET
DTSTART:20161030T010000
END:STANDARD
BEGIN:DAYLIGHT
TZOFFSETFROM:+0100
TZOFFSETTO:+0200
TZNAME:CEST
DTSTART:20170326T010000
END:DAYLIGHT
BEGIN:STANDARD
TZOFFSETFROM:+0200
TZOFFSETTO:+0100
TZNAME:CET
DTSTART:20171029T010000
END:STANDARD
BEGIN:DAYLIGHT
TZOFFSETFROM:+0100
TZOFFSETTO:+0200
TZNAME:CEST
DTSTART:20180325T010000
END:DAYLIGHT
BEGIN:STANDARD
TZOFFSETFROM:+0200
TZOFFSETTO:+0100
TZNAME:CET
DTSTART:20181028T010000
END:STANDARD
END:VTIMEZONE
BEGIN:VEVENT
DTSTART;TZID=Europe/Berlin:20170908T180000
DTEND;TZID=Europe/Berlin:20170908T210000
DTSTAMP:20260423T132557
CREATED:20170322T094346Z
LAST-MODIFIED:20170726T111636Z
UID:4257-1504893600-1504904400@www.lagotto-wasserhunde.de
SUMMARY:Mitgliederversammlung
DESCRIPTION:Rechtzeitig möchten wir Sie herzlich zur Jahreshauptversammlung des LRWD e.V. \n\nam Freitag\, den 8.9.2017 \n\n  \neinladen. Die Tagesordnung ist Ihnen fristgerecht zugestellt. \nWir möchten um 18.00 Uhr beginnen. \nDie geplante Mitgliederversammlung am 26. August 2017 und leider auch die Züchtertagung am 26.-27. August 2017 müssen wir leider verschieben.
URL:https://www.lagotto-wasserhunde.de/termin/mitgliederversammlung/
ATTACH;FMTTYPE=image/png:https://www.lagotto-wasserhunde.de/wp-content/uploads/2017/03/Logo-mittel-web-300x300-1.png
ORGANIZER;CN="LRWD e.V.":MAILTO:info@lagotto-wasserhunde.de
END:VEVENT
END:VCALENDAR