BEGIN:VCALENDAR
VERSION:2.0
PRODID:-//Lagotto Romagnolo Wasserhunde Deutschland e.V. - ECPv6.15.20//NONSGML v1.0//EN
CALSCALE:GREGORIAN
METHOD:PUBLISH
X-ORIGINAL-URL:https://www.lagotto-wasserhunde.de
X-WR-CALDESC:Veranstaltungen für Lagotto Romagnolo Wasserhunde Deutschland e.V.
REFRESH-INTERVAL;VALUE=DURATION:PT1H
X-Robots-Tag:noindex
X-PUBLISHED-TTL:PT1H
BEGIN:VTIMEZONE
TZID:Europe/Berlin
BEGIN:DAYLIGHT
TZOFFSETFROM:+0100
TZOFFSETTO:+0200
TZNAME:CEST
DTSTART:20160327T010000
END:DAYLIGHT
BEGIN:STANDARD
TZOFFSETFROM:+0200
TZOFFSETTO:+0100
TZNAME:CET
DTSTART:20161030T010000
END:STANDARD
BEGIN:DAYLIGHT
TZOFFSETFROM:+0100
TZOFFSETTO:+0200
TZNAME:CEST
DTSTART:20170326T010000
END:DAYLIGHT
BEGIN:STANDARD
TZOFFSETFROM:+0200
TZOFFSETTO:+0100
TZNAME:CET
DTSTART:20171029T010000
END:STANDARD
BEGIN:DAYLIGHT
TZOFFSETFROM:+0100
TZOFFSETTO:+0200
TZNAME:CEST
DTSTART:20180325T010000
END:DAYLIGHT
BEGIN:STANDARD
TZOFFSETFROM:+0200
TZOFFSETTO:+0100
TZNAME:CET
DTSTART:20181028T010000
END:STANDARD
END:VTIMEZONE
BEGIN:VEVENT
DTSTART;TZID=Europe/Berlin:20171021T090000
DTEND;TZID=Europe/Berlin:20171022T200000
DTSTAMP:20260423T144607
CREATED:20170705T161659Z
LAST-MODIFIED:20170705T161659Z
UID:4443-1508576400-1508702400@www.lagotto-wasserhunde.de
SUMMARY:Agilityseminar mit Anna Hinze am 21./22. Oktober 2017
DESCRIPTION:Agilityseminar mit Anna Hinze am 21./22. Oktober 2017 \nZusammen mit dem LRWD e.V. bietet Agilitytrainerin Anna Hinze ein individuell zusammen geschnittenes Seminar für alle sportbegeisterten Hundefreunde an. An zwei Tagen habt ihr die Möglichkeit sowohl als Anfänger\, als auch als Fortgeschrittene die Welt des Agility mit eurem Vierbeiner zu erkunden. Anna arbeitet mit jedem Team individuell zusammen und versucht gemeinsam mit euch die besten Wege und Lösungen im Parcour und am Gerät zu finden. In mehreren Workshops werden wir uns mit Themen wie Sprungtechnik\, Führtechnik\, Distanzarbeit\, Gerätefokussierung und Kontaktzonen beschäftigen. An Hand von Parcoursequenzen werden die unterschiedlichen Themen der Workshops vertieft. \nAnmeldungen unter agility.lagotto-wasserhunde.de \nDie Kosten für das zweitägige Seminar belaufen sich auf 195€ pro Person (Exklusive Verpflegung und Unterkunft) \n  \nWir freuen uns auf 2 Tage voller Sport und Spaß mit euch und eurem Vierbeiner!
URL:https://www.lagotto-wasserhunde.de/termin/agilityseminar-mit-anna-hinze-am-21-22-oktober-2017/
CATEGORIES:Allgemeines,Seminar
END:VEVENT
END:VCALENDAR