BEGIN:VCALENDAR
VERSION:2.0
PRODID:-//Lagotto Romagnolo Wasserhunde Deutschland e.V. - ECPv6.15.20//NONSGML v1.0//EN
CALSCALE:GREGORIAN
METHOD:PUBLISH
X-ORIGINAL-URL:https://www.lagotto-wasserhunde.de
X-WR-CALDESC:Veranstaltungen für Lagotto Romagnolo Wasserhunde Deutschland e.V.
REFRESH-INTERVAL;VALUE=DURATION:PT1H
X-Robots-Tag:noindex
X-PUBLISHED-TTL:PT1H
BEGIN:VTIMEZONE
TZID:Europe/Berlin
BEGIN:DAYLIGHT
TZOFFSETFROM:+0100
TZOFFSETTO:+0200
TZNAME:CEST
DTSTART:20170326T010000
END:DAYLIGHT
BEGIN:STANDARD
TZOFFSETFROM:+0200
TZOFFSETTO:+0100
TZNAME:CET
DTSTART:20171029T010000
END:STANDARD
BEGIN:DAYLIGHT
TZOFFSETFROM:+0100
TZOFFSETTO:+0200
TZNAME:CEST
DTSTART:20180325T010000
END:DAYLIGHT
BEGIN:STANDARD
TZOFFSETFROM:+0200
TZOFFSETTO:+0100
TZNAME:CET
DTSTART:20181028T010000
END:STANDARD
BEGIN:DAYLIGHT
TZOFFSETFROM:+0100
TZOFFSETTO:+0200
TZNAME:CEST
DTSTART:20190331T010000
END:DAYLIGHT
BEGIN:STANDARD
TZOFFSETFROM:+0200
TZOFFSETTO:+0100
TZNAME:CET
DTSTART:20191027T010000
END:STANDARD
END:VTIMEZONE
BEGIN:VEVENT
DTSTART;TZID=Europe/Berlin:20180121T100000
DTEND;TZID=Europe/Berlin:20180121T180000
DTSTAMP:20260423T185104
CREATED:20171103T165252Z
LAST-MODIFIED:20180127T191518Z
UID:4948-1516528800-1516557600@www.lagotto-wasserhunde.de
SUMMARY:Züchtertagung
DESCRIPTION:Am 21.01.2018 führen wir eine Züchtertagung durch. \nViele Informationen\, Neues und Raum für Diskussionen geben wir Euch an die Hand. \nDie Züchtertagung findet hier statt:\nGasthaus Kloppmann\nNothfelder Str. 19\n34289 Zierenberg-Oberelsungen\nTelefon: 05606-3319 \nWir freuen uns auf zahlreiche Teilnehmer \n\nEuer Vorstandsteam
URL:https://www.lagotto-wasserhunde.de/termin/save-the-date-zuechtertagung/
CATEGORIES:Seminar
ATTACH;FMTTYPE=image/jpeg:https://www.lagotto-wasserhunde.de/wp-content/uploads/2017/03/Akademie.jpg
ORGANIZER;CN="LRWD e.V.":MAILTO:info@lagotto-wasserhunde.de
END:VEVENT
END:VCALENDAR