BEGIN:VCALENDAR
VERSION:2.0
PRODID:-//Lagotto Romagnolo Wasserhunde Deutschland e.V. - ECPv6.15.20//NONSGML v1.0//EN
CALSCALE:GREGORIAN
METHOD:PUBLISH
X-ORIGINAL-URL:https://www.lagotto-wasserhunde.de
X-WR-CALDESC:Veranstaltungen für Lagotto Romagnolo Wasserhunde Deutschland e.V.
REFRESH-INTERVAL;VALUE=DURATION:PT1H
X-Robots-Tag:noindex
X-PUBLISHED-TTL:PT1H
BEGIN:VTIMEZONE
TZID:Europe/Berlin
BEGIN:DAYLIGHT
TZOFFSETFROM:+0100
TZOFFSETTO:+0200
TZNAME:CEST
DTSTART:20240331T010000
END:DAYLIGHT
BEGIN:STANDARD
TZOFFSETFROM:+0200
TZOFFSETTO:+0100
TZNAME:CET
DTSTART:20241027T010000
END:STANDARD
BEGIN:DAYLIGHT
TZOFFSETFROM:+0100
TZOFFSETTO:+0200
TZNAME:CEST
DTSTART:20250330T010000
END:DAYLIGHT
BEGIN:STANDARD
TZOFFSETFROM:+0200
TZOFFSETTO:+0100
TZNAME:CET
DTSTART:20251026T010000
END:STANDARD
BEGIN:DAYLIGHT
TZOFFSETFROM:+0100
TZOFFSETTO:+0200
TZNAME:CEST
DTSTART:20260329T010000
END:DAYLIGHT
BEGIN:STANDARD
TZOFFSETFROM:+0200
TZOFFSETTO:+0100
TZNAME:CET
DTSTART:20261025T010000
END:STANDARD
BEGIN:DAYLIGHT
TZOFFSETFROM:+0100
TZOFFSETTO:+0200
TZNAME:CEST
DTSTART:20270328T010000
END:DAYLIGHT
BEGIN:STANDARD
TZOFFSETFROM:+0200
TZOFFSETTO:+0100
TZNAME:CET
DTSTART:20271031T010000
END:STANDARD
BEGIN:DAYLIGHT
TZOFFSETFROM:+0100
TZOFFSETTO:+0200
TZNAME:CEST
DTSTART:20280326T010000
END:DAYLIGHT
BEGIN:STANDARD
TZOFFSETFROM:+0200
TZOFFSETTO:+0100
TZNAME:CET
DTSTART:20281029T010000
END:STANDARD
END:VTIMEZONE
BEGIN:VEVENT
DTSTART;VALUE=DATE:20250101
DTEND;VALUE=DATE:20270201
DTSTAMP:20260421T115051
CREATED:20241029T142600Z
LAST-MODIFIED:20260415T151040Z
UID:12000-1735689600-1801439999@www.lagotto-wasserhunde.de
SUMMARY:Zuchtzulassungsveranstaltungen LRWD e.V. 2026 incl. Meldeformular
DESCRIPTION:Zuchtzulassungsveranstaltungen 2026\n  \nIhr habt an folgenden Terminen die Möglichkeit\, Euren Lagotto zur Zuchtzulassungsveranstaltung anzumelden.  Nachfolgend findet Ihr das Anmeldeformular. Die Anmeldungen zur Zuchtzulassungsveranstaltung sollten bis 2 Wochen vor der Veranstaltung bei uns eingegangen sein\, in jeden Fall aber so rechtzeitig\, dass die Vorbereitungen seitens des Vereins stressfrei erledigt werden können\, hierzu gehören Rechnungsstellung und Zahlungseingang\, Vorbereitung der Unterlagen\, etc. \n\n18.4.2026 Baunatal\n13.6.2026 Possen\n3.10.2026 Gut Kragenhof \nweitere Termine folgen \nBis 5 Tage vor der Zuchtzulassungsveranstaltung müssen die beiden erforderlichen Formwerte\, mind. „SG“\, vorliegen. Schick uns diese bitte an zucht@lagotto-wasserhunde.de\n \nMit der Anmeldung wird die Gebühr für die Zuchtzulassung fällig. Die Rechnungsstellung erfolgt nach der Anmeldung. Erst mit Eingang der Zahlung ist der Platz bei der Zuchtzulassungsveranstaltung reserviert. Bei „Nichtbestehen“ oder „Nichterscheinen“ am Tag der Zuchtzulassung verfällt der Betrag.\nDie Anmeldung erfolgt ausschließlich über das unten stehende Formular! \n\n  \nDie Voraussetzungen zur Teilnahme an einer Zuchtzulassungsveranstaltung sind: \n\nMindestalter des Hundes 15 Monate\n2 Ausstellungsbewertungen bei einer vom VDH geschützten Ausstellung ab einem Alter von 12 Monaten mit Bewertungen von mindestens „Sehr gut“\, die von 2 verschiedenen  Zuchtrichtern vergeben worden sind\n\nZur Zuchtzulassungsveranstaltung selber benötigen wir die Ahnentafel im Original. Die Ausstellungsbewertungen bitte vorab per email an zucht@lagotto-wasserhunde.de schicken. \nDie Zuchtzulassung wird erst ausgesprochen wenn alle Voraussetzungen erfüllt sind: \n\nVerhaltensbeurteilung im Rahmen der ZZL\nFormwertbeurteilung im Rahmen der ZZL\n2 Ausstellungsbewertungen mit mind. „sehr gut“\, s.o.\nHD\, LÜW & Patella Auswertung\nDNA Fingerprint für Deutschland\nJE Auswertung\nLSD Auswertung\nFurnishing Auswertung\nCDDY Auswertung (seit 01.07.2023\, notwendig vor dem 1.Deckakt)\nCDPA Auswertung  (seit 01.07.2023\, notwendig vor dem 1.Deckakt)\n\n 
URL:https://www.lagotto-wasserhunde.de/termin/ausstellungs-zzl-termine-in-2022-mit-dem-lrwd-e-v-2/
CATEGORIES:Allgemeines,Ausstellung,ZZL
ATTACH;FMTTYPE=image/png:https://www.lagotto-wasserhunde.de/wp-content/uploads/2023/12/Logo-VDH-klein.png
END:VEVENT
BEGIN:VEVENT
DTSTART;TZID=Europe/Berlin:20250621T093000
DTEND;TZID=Europe/Berlin:20250621T163000
DTSTAMP:20260421T115051
CREATED:20250329T101304Z
LAST-MODIFIED:20250525T153941Z
UID:12820-1750498200-1750523400@www.lagotto-wasserhunde.de
SUMMARY:Seminar Hund im Recht mit Ralf D. Ostermann
DESCRIPTION:Hund im Recht mit Ralf D. Ostermann\nIhr Lieben\, \nuns beschäftigen immer wieder Fragen beispielsweise zu Welpenkaufverträgen\, Deckrüdenveträgen oder auch zur gewerbsmäßigen Hundezucht nach §11 Tierschutzgesetz.  Daher freuen wir uns\, Rechtsanwalt Ralf D. Ostermann am 21. Juni 2025 erneut für ein Rechtsseminar mit Workshopanteil zu folgenden Themen gewinnen zu können: \n\n\nWas bedeutet Tierschutz in der Zucht?\n\nWas müssen Züchter aus dem Vertragsrecht wissen?\n\nWas gehört in den Welpenkaufvertrag?\n\nWie geht man mit Gewährleistungsansprüchen um?\n\nWas gehört in den Deckrüdenvertrag?\nWann wird ein Züchter als Unternehmer behandelt?\nWas unterscheidet gewerbliche von gewerbsmäßiger Hundezucht?\nWie sieht es mit Steuern aus?\nWelche rechtlichen Anforderungen werden an Züchterwebseiten gestellt?\nWelche Im- und Exportregeln müssen Züchter beachten?\n\nWas muss man zur Halterhaftung wissen?\n\n\nDarüber hinaus habt Ihr im Vorfeld Gelegenheit\, Fragen einzureichen\, auf die Ralf. D. Ostermann dann im Seminar eingehen wird.\nKosten:\n49 Euro für Mitglieder des LRWD e.V. und des LRZ e.V.\n79 Euro für Nichtmitglieder \nTermin:\n21. Juni 2025\nZeit 09:30 – 16:30 Uhr \nVeranstaltungsort:\nHotel Zur Schmiede\nZiegenhainer Str. 26\n36304 Alsfeld\nTel: +49 (6631) 793830\nbegrenzte Teilnehmerzahl! \n… und damit sich die Anreise nach Alsfeld auch richtig lohnt\, bieten wir euch für Sonntag\, denn 22. Juni 2025\, ein weiteres Seminar „Hundemassage und -fitness“ mit Hundephysiotherapeutin Vanessa Heß an. \nMehr dazu in unserem Veranstaltungskalender unter „Termine“. \n 
URL:https://www.lagotto-wasserhunde.de/termin/seminar-hund-im-recht-mit-ralf-d-ostermann/
LOCATION:Alsfeld\, Ziegenhainer Str. 26\, Alsfeld\, Hessen\, 36304\, Germany
CATEGORIES:Allgemeines,Seminar
ATTACH;FMTTYPE=image/png:https://www.lagotto-wasserhunde.de/wp-content/uploads/2025/03/Bildschirmfoto-2025-05-25-um-17.39.12.png
ORGANIZER;CN="LRWD e.V.":MAILTO:info@lagotto-wasserhunde.de
END:VEVENT
BEGIN:VEVENT
DTSTART;TZID=Europe/Berlin:20250622T093000
DTEND;TZID=Europe/Berlin:20250622T143000
DTSTAMP:20260421T115051
CREATED:20250329T101357Z
LAST-MODIFIED:20250509T153758Z
UID:12840-1750584600-1750602600@www.lagotto-wasserhunde.de
SUMMARY:Seminar Hundemassage und /-fitness mit Hundephysiotherapeutin Vanessa Heß
DESCRIPTION:Hundemassage und /-fitness mit Hundephysiotherapeutin Vanessa Heß\n\nWer sich bereits für das Rechtsseminar mit Ralf D. Ostermann am Samstag\, den 21. Juni 2025 angemeldet hat\, bekommt noch ein tolles Seminar am Sonntag\, den 22 Juni 2025\, on top\, damit sich die Anreise auch richtig lohnt! Wir haben uns mal etwas ganz Neues für euch einfallen lassen.\nAm Sonntag\, den 22. Juni 2025\, haben wir Hundephysiotherapeutin und Ernährungsberaterin Vanessa Heß eingeladen\, um uns verschiedene Massagepraktiken und Dehnübungen am Hund zu zeigen. Nach einer kurzen theoretischen Einführung und praxisnahen Vorstellung der Techniken\, dürft ihr diese an eurem Hund gleich ausprobieren. \nZusätzlich stellt uns Vanessa Heß einige einfache Fitnessübungen vor\, die die Beweglichkeit und Gesundheit eures Hundes fördern.\n\n\nZum Einstimmen geht es hier zum Insta Profil von Vanessa Heß\nKosten:\n69 Euro für Mitglieder des LRWD e.V. und des LRZ e.V.\n85 Euro für Nichtmitglieder \nTermin:\n22. Juni 2025\nZeit 9.30 – 14.30 Uhr \nVeranstaltungsort:\nHotel Zur Schmiede\n36304 Alsfeld\nTel: +49 (6631) 793830\nbegrenzte Teilnehmerzahl! \n 
URL:https://www.lagotto-wasserhunde.de/termin/seminar-hundemassage-und-fitness-mit-hundephysiotherapeutin-vanessa-hess/
LOCATION:Alsfeld\, Ziegenhainer Str. 26\, Alsfeld\, Hessen\, 36304\, Germany
CATEGORIES:Allgemeines,Seminar
ATTACH;FMTTYPE=image/jpeg:https://www.lagotto-wasserhunde.de/wp-content/uploads/2025/03/IMG_4333-e1743194371712.jpeg
ORGANIZER;CN="LRWD e.V.":MAILTO:info@lagotto-wasserhunde.de
END:VEVENT
END:VCALENDAR